BEGIN:VCALENDAR
VERSION:2.0
PRODID:spatie/icalendar-generator
DESCRIPTION:Events from Vaulting SA
X-WR-CALDESC:Events from Vaulting SA
REFRESH-INTERVAL;VALUE=DURATION:PT1440M
X-PUBLISHED-TTL:PT1440M
BEGIN:VTIMEZONE
TZID:Etc/GMT-2
BEGIN:STANDARD
DTSTART:20240813T000000Z
TZOFFSETFROM:+0200
TZOFFSETTO:+0200
END:STANDARD
END:VTIMEZONE
BEGIN:VTIMEZONE
TZID:UTC
BEGIN:STANDARD
DTSTART:20250723T130555Z
TZOFFSETFROM:+0000
TZOFFSETTO:+0000
END:STANDARD
END:VTIMEZONE
BEGIN:VEVENT
UID:16-16
DTSTAMP:20260419T130555Z
SUMMARY:Mpumalanga (Hosted in Gauteng) 1
LOCATION:
ORGANIZER;CN=admin:MAILTO:colin@craffordit.co.za
DTSTART;TZID=Etc/GMT-2:20250510T000000
DTEND;TZID=Etc/GMT-2:20250510T010000
X-ALT-DESC;FMTTYPE=TEXT/HTML:
CATEGORIES:Mpumalanga,  Western Cape
URL;VALUE=URI:https://vaultingsa.co.za/mc-events/mpumalanga-hosted-in-gaute
 ng-1/?mc_id=16
END:VEVENT
END:VCALENDAR